25.400000
0
0
-25.400000
213573.065416
4000518.011218
