25.400000
0.000000
0.000000
-25.400000
584099.361296
3993667.129562
