25.400000000000
0.000000000000
0.000000000000
-25.400000000000
403316.854354335690
4101538.916588935100
