25.400000000000
0.000000000000
0.000000000000
-25.400000000000
222548.224142019229
4105456.292072165750
