25.400000
0.000000
0.000000
-25.400000
582504.227583
4104590.655416
