25.400000
0.000000
0.000000
-25.400000
569789.725807
4216041.787219
