25.400000
0.000000
0.000000
-25.400000
404680.545068
4217509.389646
