25.40000078
0.00000000
0.00000000
-25.40000078
226033.75104533
4216400.30496309
