25.40000078
0.00000000
0.00000000
-25.40000078
581471.99678568
4216405.03483488
